BEGIN:VCALENDAR
VERSION:2.0
PRODID:-//Sentier des Crassiers - ECPv6.15.17.1//NONSGML v1.0//EN
CALSCALE:GREGORIAN
METHOD:PUBLISH
X-WR-CALNAME:Sentier des Crassiers
X-ORIGINAL-URL:https://sentierdescrassiers.fr
X-WR-CALDESC:Évènements pour Sentier des Crassiers
REFRESH-INTERVAL;VALUE=DURATION:PT1H
X-Robots-Tag:noindex
X-PUBLISHED-TTL:PT1H
BEGIN:VTIMEZONE
TZID:Europe/Paris
BEGIN:DAYLIGHT
TZOFFSETFROM:+0100
TZOFFSETTO:+0200
TZNAME:CEST
DTSTART:20250330T010000
END:DAYLIGHT
BEGIN:STANDARD
TZOFFSETFROM:+0200
TZOFFSETTO:+0100
TZNAME:CET
DTSTART:20251026T010000
END:STANDARD
BEGIN:DAYLIGHT
TZOFFSETFROM:+0100
TZOFFSETTO:+0200
TZNAME:CEST
DTSTART:20260329T010000
END:DAYLIGHT
BEGIN:STANDARD
TZOFFSETFROM:+0200
TZOFFSETTO:+0100
TZNAME:CET
DTSTART:20261025T010000
END:STANDARD
BEGIN:DAYLIGHT
TZOFFSETFROM:+0100
TZOFFSETTO:+0200
TZNAME:CEST
DTSTART:20270328T010000
END:DAYLIGHT
BEGIN:STANDARD
TZOFFSETFROM:+0200
TZOFFSETTO:+0100
TZNAME:CET
DTSTART:20271031T010000
END:STANDARD
END:VTIMEZONE
BEGIN:VEVENT
DTSTART;VALUE=DATE:20260408
DTEND;VALUE=DATE:20260409
DTSTAMP:20260425T232909
CREATED:20260325T093157Z
LAST-MODIFIED:20260325T093200Z
UID:621-1775606400-1775692799@sentierdescrassiers.fr
SUMMARY:Arpentage Sainté-Firminy avec l'École supérieure d'Art et Design de Saint-Étienne
DESCRIPTION:Grand arpentage collectif reliant Saint-Étienne à Firminy dans le cadre du projet Sentier des Crassiers\, une journée proposée aux étudiant·es de l’ESADSE\, le vendredi 9 avril 2026. \nDépart : 9H Musée de la mine (Puits Courriot)\n12 h Pique nique à la Ricamarie.Arrivé : 16h30-17h Emmaus de Firminy – Roche-la-Molière (Puits Cambefort). Fin 18h \nTraversée de 16km
URL:https://sentierdescrassiers.fr/evenements/arpentage-sainte-firminy-avec-lecole-superieure-dart-et-design-de-saint-etienne/
LOCATION:École supérieure d’Art et Design de Saint-Étienne\, 14 Rue Marius Patinaud\, Saint-Étienne\, 42000\, France
CATEGORIES:Workshop
ATTACH;FMTTYPE=image/jpeg:https://sentierdescrassiers.fr/wp-content/uploads/2026/03/4CFB5FCA-8A70-4ABC-945D-E8F884D0433E_1_105_c.jpeg
ORGANIZER;CN="Sentier des Crassiers":MAILTO:contact@sentierdescrassiers.fr
END:VEVENT
END:VCALENDAR